BEGIN:VCALENDAR
VERSION:2.0
PRODID:-//West Georgia Regional Library System - ECPv6.15.18//NONSGML v1.0//EN
CALSCALE:GREGORIAN
METHOD:PUBLISH
X-ORIGINAL-URL:https://wgrls.org
X-WR-CALDESC:Events for West Georgia Regional Library System
REFRESH-INTERVAL;VALUE=DURATION:PT1H
X-Robots-Tag:noindex
X-PUBLISHED-TTL:PT1H
BEGIN:VTIMEZONE
TZID:America/New_York
BEGIN:DAYLIGHT
TZOFFSETFROM:-0500
TZOFFSETTO:-0400
TZNAME:EDT
DTSTART:20250309T070000
END:DAYLIGHT
BEGIN:STANDARD
TZOFFSETFROM:-0400
TZOFFSETTO:-0500
TZNAME:EST
DTSTART:20251102T060000
END:STANDARD
BEGIN:DAYLIGHT
TZOFFSETFROM:-0500
TZOFFSETTO:-0400
TZNAME:EDT
DTSTART:20260308T070000
END:DAYLIGHT
BEGIN:STANDARD
TZOFFSETFROM:-0400
TZOFFSETTO:-0500
TZNAME:EST
DTSTART:20261101T060000
END:STANDARD
BEGIN:DAYLIGHT
TZOFFSETFROM:-0500
TZOFFSETTO:-0400
TZNAME:EDT
DTSTART:20270314T070000
END:DAYLIGHT
BEGIN:STANDARD
TZOFFSETFROM:-0400
TZOFFSETTO:-0500
TZNAME:EST
DTSTART:20271107T060000
END:STANDARD
END:VTIMEZONE
BEGIN:VEVENT
DTSTART;TZID=America/New_York:20260512T090000
DTEND;TZID=America/New_York:20260512T110000
DTSTAMP:20260419T094809
CREATED:20251222T151944Z
LAST-MODIFIED:20251222T155007Z
UID:10013354-1778576400-1778583600@wgrls.org
SUMMARY:Regional Board Meeting
DESCRIPTION:
URL:https://wgrls.org/event/regional-board-meeting-9/
LOCATION:WGRLS Administrative Offices\, 124 W Chandler Street\, Carrollton\, GA\, 30117\, United States
CATEGORIES:Board Meetings,WGRLS Board of Trustees
GEO:33.5853835;-85.0748058
X-APPLE-STRUCTURED-LOCATION;VALUE=URI;X-ADDRESS=WGRLS Administrative Offices 124 W Chandler Street Carrollton GA 30117 United States;X-APPLE-RADIUS=500;X-TITLE=124 W Chandler Street:geo:-85.0748058,33.5853835
END:VEVENT
BEGIN:VEVENT
DTSTART;TZID=America/New_York:20260811T090000
DTEND;TZID=America/New_York:20260811T110000
DTSTAMP:20260419T094809
CREATED:20251222T151947Z
LAST-MODIFIED:20251222T154958Z
UID:10013355-1786438800-1786446000@wgrls.org
SUMMARY:Regional Board Meeting
DESCRIPTION:
URL:https://wgrls.org/event/regional-board-meeting-10/
LOCATION:WGRLS Administrative Offices\, 124 W Chandler Street\, Carrollton\, GA\, 30117\, United States
CATEGORIES:Board Meetings,WGRLS Board of Trustees
GEO:33.5853835;-85.0748058
X-APPLE-STRUCTURED-LOCATION;VALUE=URI;X-ADDRESS=WGRLS Administrative Offices 124 W Chandler Street Carrollton GA 30117 United States;X-APPLE-RADIUS=500;X-TITLE=124 W Chandler Street:geo:-85.0748058,33.5853835
END:VEVENT
BEGIN:VEVENT
DTSTART;TZID=America/New_York:20261110T090000
DTEND;TZID=America/New_York:20261110T110000
DTSTAMP:20260419T094809
CREATED:20251222T151950Z
LAST-MODIFIED:20251222T154950Z
UID:10013356-1794301200-1794308400@wgrls.org
SUMMARY:Regional Board Meeting
DESCRIPTION:
URL:https://wgrls.org/event/regional-board-meeting-11/
LOCATION:WGRLS Administrative Offices\, 124 W Chandler Street\, Carrollton\, GA\, 30117\, United States
CATEGORIES:Board Meetings,WGRLS Board of Trustees
GEO:33.5853835;-85.0748058
X-APPLE-STRUCTURED-LOCATION;VALUE=URI;X-ADDRESS=WGRLS Administrative Offices 124 W Chandler Street Carrollton GA 30117 United States;X-APPLE-RADIUS=500;X-TITLE=124 W Chandler Street:geo:-85.0748058,33.5853835
END:VEVENT
END:VCALENDAR