BEGIN:VCALENDAR
VERSION:2.0
PRODID:-//West Georgia Regional Library System - ECPv6.15.18//NONSGML v1.0//EN
CALSCALE:GREGORIAN
METHOD:PUBLISH
X-WR-CALNAME:West Georgia Regional Library System
X-ORIGINAL-URL:https://wgrls.org
X-WR-CALDESC:Events for West Georgia Regional Library System
REFRESH-INTERVAL;VALUE=DURATION:PT1H
X-Robots-Tag:noindex
X-PUBLISHED-TTL:PT1H
BEGIN:VTIMEZONE
TZID:America/New_York
BEGIN:DAYLIGHT
TZOFFSETFROM:-0500
TZOFFSETTO:-0400
TZNAME:EDT
DTSTART:20250309T070000
END:DAYLIGHT
BEGIN:STANDARD
TZOFFSETFROM:-0400
TZOFFSETTO:-0500
TZNAME:EST
DTSTART:20251102T060000
END:STANDARD
BEGIN:DAYLIGHT
TZOFFSETFROM:-0500
TZOFFSETTO:-0400
TZNAME:EDT
DTSTART:20260308T070000
END:DAYLIGHT
BEGIN:STANDARD
TZOFFSETFROM:-0400
TZOFFSETTO:-0500
TZNAME:EST
DTSTART:20261101T060000
END:STANDARD
BEGIN:DAYLIGHT
TZOFFSETFROM:-0500
TZOFFSETTO:-0400
TZNAME:EDT
DTSTART:20270314T070000
END:DAYLIGHT
BEGIN:STANDARD
TZOFFSETFROM:-0400
TZOFFSETTO:-0500
TZNAME:EST
DTSTART:20271107T060000
END:STANDARD
END:VTIMEZONE
BEGIN:VEVENT
DTSTART;TZID=America/New_York:20260420T130000
DTEND;TZID=America/New_York:20260420T140000
DTSTAMP:20260419T124840
CREATED:20260128T171344Z
LAST-MODIFIED:20260128T171344Z
UID:10013585-1776690000-1776693600@wgrls.org
SUMMARY:Yoga
DESCRIPTION:Come to the library for a relaxing stretching hour. This is a great way to exercise your body. Ages 18+.
URL:https://wgrls.org/event/yoga-35/
LOCATION:Villa Rica Public Library\, 869 Dallas Highway\, Villa Rica\, GA\, 30180\, United States
CATEGORIES:Age: Adults
END:VEVENT
BEGIN:VEVENT
DTSTART;TZID=America/New_York:20260420T163000
DTEND;TZID=America/New_York:20260420T183000
DTSTAMP:20260419T124840
CREATED:20260128T171344Z
LAST-MODIFIED:20260128T171344Z
UID:10013586-1776702600-1776709800@wgrls.org
SUMMARY:Chess Club
DESCRIPTION:Learn to play\, or just meet some new chess friends at our weekly event. This is a great activity for the whole family.
URL:https://wgrls.org/event/chess-club-35/
LOCATION:Villa Rica Public Library\, 869 Dallas Highway\, Villa Rica\, GA\, 30180\, United States
CATEGORIES:All Ages
END:VEVENT
BEGIN:VEVENT
DTSTART;TZID=America/New_York:20260420T173000
DTEND;TZID=America/New_York:20260420T183000
DTSTAMP:20260419T124840
CREATED:20260128T171344Z
LAST-MODIFIED:20260128T171344Z
UID:10013587-1776706200-1776709800@wgrls.org
SUMMARY:Trivia Night with News & Views
DESCRIPTION:Ready to test your knowledge? Come to our Trivia Night with Tim Collins\, owner of News & Views for families. Snacks will be provided.
URL:https://wgrls.org/event/trivia-night-with-news-views-5/
LOCATION:Villa Rica Public Library\, 869 Dallas Highway\, Villa Rica\, GA\, 30180\, United States
CATEGORIES:Age: Families
END:VEVENT
BEGIN:VEVENT
DTSTART;TZID=America/New_York:20260421T110000
DTEND;TZID=America/New_York:20260421T120000
DTSTAMP:20260419T124840
CREATED:20260128T171344Z
LAST-MODIFIED:20260128T171344Z
UID:10013588-1776769200-1776772800@wgrls.org
SUMMARY:Little Listeners Storytime
DESCRIPTION:Join us as we read stories\, sing songs\, and play. Check our social media pages for exact themes. Ages 0-2.
URL:https://wgrls.org/event/little-listeners-storytime-37/
LOCATION:Villa Rica Public Library\, 869 Dallas Highway\, Villa Rica\, GA\, 30180\, United States
CATEGORIES:Babies
END:VEVENT
BEGIN:VEVENT
DTSTART;TZID=America/New_York:20260421T150000
DTEND;TZID=America/New_York:20260421T163000
DTSTAMP:20260419T124840
CREATED:20260128T171401Z
LAST-MODIFIED:20260128T171401Z
UID:10013589-1776783600-1776789000@wgrls.org
SUMMARY:Level-Up
DESCRIPTION:kids ages 6-11\, will be able to play and discover things related to STEAM topics. Check our social media pages for exact themes.
URL:https://wgrls.org/event/level-up-12/
LOCATION:Villa Rica Public Library\, 869 Dallas Highway\, Villa Rica\, GA\, 30180\, United States
CATEGORIES:Age: Children
END:VEVENT
BEGIN:VEVENT
DTSTART;TZID=America/New_York:20260422T110000
DTEND;TZID=America/New_York:20260422T120000
DTSTAMP:20260419T124840
CREATED:20260128T171402Z
LAST-MODIFIED:20260128T171402Z
UID:10013590-1776855600-1776859200@wgrls.org
SUMMARY:Preschool Storytime
DESCRIPTION:Join us as we read stories\, sing songs\, and play. For ages 3-5.
URL:https://wgrls.org/event/preschool-storytime-79/
LOCATION:Villa Rica Public Library\, 869 Dallas Highway\, Villa Rica\, GA\, 30180\, United States
CATEGORIES:Preschool
END:VEVENT
BEGIN:VEVENT
DTSTART;TZID=America/New_York:20260424T123000
DTEND;TZID=America/New_York:20260424T150000
DTSTAMP:20260419T124840
CREATED:20260128T171402Z
LAST-MODIFIED:20260128T171402Z
UID:10013591-1777033800-1777042800@wgrls.org
SUMMARY:Adult Game Day
DESCRIPTION:Come to the library to play various board and card games. Light refreshments served.
URL:https://wgrls.org/event/adult-game-day-24/
LOCATION:Villa Rica Public Library\, 869 Dallas Highway\, Villa Rica\, GA\, 30180\, United States
CATEGORIES:Age: Adults
END:VEVENT
BEGIN:VEVENT
DTSTART;TZID=America/New_York:20260427T130000
DTEND;TZID=America/New_York:20260427T140000
DTSTAMP:20260419T124840
CREATED:20260128T171402Z
LAST-MODIFIED:20260128T171402Z
UID:10013592-1777294800-1777298400@wgrls.org
SUMMARY:Yoga
DESCRIPTION:Come to the library for this relaxing stretching hour. This is a great way to exercise your body. Ages 18+.
URL:https://wgrls.org/event/yoga-36/
LOCATION:Villa Rica Public Library\, 869 Dallas Highway\, Villa Rica\, GA\, 30180\, United States
CATEGORIES:Age: Adults
END:VEVENT
BEGIN:VEVENT
DTSTART;TZID=America/New_York:20260427T163000
DTEND;TZID=America/New_York:20260427T183000
DTSTAMP:20260419T124840
CREATED:20260128T171402Z
LAST-MODIFIED:20260128T171402Z
UID:10013593-1777307400-1777314600@wgrls.org
SUMMARY:Chess Club
DESCRIPTION:Learn to play\, or just meet some new chess friends at our weekly event. This is a great activity for the whole family.
URL:https://wgrls.org/event/chess-club-36/
LOCATION:Villa Rica Public Library\, 869 Dallas Highway\, Villa Rica\, GA\, 30180\, United States
CATEGORIES:All Ages
END:VEVENT
BEGIN:VEVENT
DTSTART;TZID=America/New_York:20260428T110000
DTEND;TZID=America/New_York:20260428T120000
DTSTAMP:20260419T124840
CREATED:20260128T171413Z
LAST-MODIFIED:20260128T171413Z
UID:10013594-1777374000-1777377600@wgrls.org
SUMMARY:Little Listeners Storytime
DESCRIPTION:Join us as we read stories\, sing songs\, and play. Check our social media pages for exact themes. Ages 0-2.
URL:https://wgrls.org/event/little-listeners-storytime-38/
LOCATION:Villa Rica Public Library\, 869 Dallas Highway\, Villa Rica\, GA\, 30180\, United States
CATEGORIES:Babies
END:VEVENT
BEGIN:VEVENT
DTSTART;TZID=America/New_York:20260428T150000
DTEND;TZID=America/New_York:20260428T163000
DTSTAMP:20260419T124840
CREATED:20260128T171413Z
LAST-MODIFIED:20260128T171413Z
UID:10013595-1777388400-1777393800@wgrls.org
SUMMARY:Level-Up
DESCRIPTION:Kids ages 6-11\, will be able to play and discover things related to STEAM topics. Check our social media pages for exact themes.
URL:https://wgrls.org/event/level-up-13/
LOCATION:Villa Rica Public Library\, 869 Dallas Highway\, Villa Rica\, GA\, 30180\, United States
CATEGORIES:Age: Children
END:VEVENT
BEGIN:VEVENT
DTSTART;TZID=America/New_York:20260428T170000
DTEND;TZID=America/New_York:20260428T180000
DTSTAMP:20260419T124840
CREATED:20260128T171414Z
LAST-MODIFIED:20260128T171414Z
UID:10013596-1777395600-1777399200@wgrls.org
SUMMARY:The Poetry Break
DESCRIPTION:Come to the library to show off your poems and discover other poets and their poems.
URL:https://wgrls.org/event/the-poetry-break-7/
LOCATION:Villa Rica Public Library\, 869 Dallas Highway\, Villa Rica\, GA\, 30180\, United States
CATEGORIES:Age: Adults
END:VEVENT
BEGIN:VEVENT
DTSTART;TZID=America/New_York:20260429T110000
DTEND;TZID=America/New_York:20260429T120000
DTSTAMP:20260419T124840
CREATED:20260128T171414Z
LAST-MODIFIED:20260128T171414Z
UID:10013598-1777460400-1777464000@wgrls.org
SUMMARY:Preschool Storytime
DESCRIPTION:Join us as we read stories\, sing songs\, and play. For ages 3-5.
URL:https://wgrls.org/event/preschool-storytime-80/
LOCATION:Villa Rica Public Library\, 869 Dallas Highway\, Villa Rica\, GA\, 30180\, United States
CATEGORIES:Preschool
END:VEVENT
BEGIN:VEVENT
DTSTART;TZID=America/New_York:20260430T110000
DTEND;TZID=America/New_York:20260430T120000
DTSTAMP:20260419T124840
CREATED:20260128T171414Z
LAST-MODIFIED:20260128T171414Z
UID:10013597-1777546800-1777550400@wgrls.org
SUMMARY:Spanish Storytime
DESCRIPTION:Join Nubia for a fun and engaging storytime featuring stories in Spanish or bilingual tales for all ages.
URL:https://wgrls.org/event/spanish-storytime-3/
LOCATION:Villa Rica Public Library\, 869 Dallas Highway\, Villa Rica\, GA\, 30180\, United States
CATEGORIES:Age: Children
END:VEVENT
BEGIN:VEVENT
DTSTART;TZID=America/New_York:20260430T170000
DTEND;TZID=America/New_York:20260430T184500
DTSTAMP:20260419T124840
CREATED:20260330T140415Z
LAST-MODIFIED:20260330T140415Z
UID:10014188-1777568400-1777574700@wgrls.org
SUMMARY:Adult Switch Game Night
DESCRIPTION:Connect with other game lovers for a night of fun. Try out the new Switch 2 or play classic co-op/competitive games on the Nintendo Switch. Bring your friends — or make some new ones! Food provided. Registration required. Register here: https://forms.gle/hdDqYPuNhKmVnraj6
URL:https://wgrls.org/event/adult-switch-game-night-2/
LOCATION:Villa Rica Public Library\, 869 Dallas Highway\, Villa Rica\, GA\, 30180\, United States
CATEGORIES:Age: Adults
END:VEVENT
END:VCALENDAR