BEGIN:VCALENDAR
VERSION:2.0
PRODID:-//West Georgia Regional Library System - ECPv6.15.18//NONSGML v1.0//EN
CALSCALE:GREGORIAN
METHOD:PUBLISH
X-WR-CALNAME:West Georgia Regional Library System
X-ORIGINAL-URL:https://wgrls.org
X-WR-CALDESC:Events for West Georgia Regional Library System
REFRESH-INTERVAL;VALUE=DURATION:PT1H
X-Robots-Tag:noindex
X-PUBLISHED-TTL:PT1H
BEGIN:VTIMEZONE
TZID:America/New_York
BEGIN:DAYLIGHT
TZOFFSETFROM:-0500
TZOFFSETTO:-0400
TZNAME:EDT
DTSTART:20250309T070000
END:DAYLIGHT
BEGIN:STANDARD
TZOFFSETFROM:-0400
TZOFFSETTO:-0500
TZNAME:EST
DTSTART:20251102T060000
END:STANDARD
BEGIN:DAYLIGHT
TZOFFSETFROM:-0500
TZOFFSETTO:-0400
TZNAME:EDT
DTSTART:20260308T070000
END:DAYLIGHT
BEGIN:STANDARD
TZOFFSETFROM:-0400
TZOFFSETTO:-0500
TZNAME:EST
DTSTART:20261101T060000
END:STANDARD
BEGIN:DAYLIGHT
TZOFFSETFROM:-0500
TZOFFSETTO:-0400
TZNAME:EDT
DTSTART:20270314T070000
END:DAYLIGHT
BEGIN:STANDARD
TZOFFSETFROM:-0400
TZOFFSETTO:-0500
TZNAME:EST
DTSTART:20271107T060000
END:STANDARD
END:VTIMEZONE
BEGIN:VEVENT
DTSTART;TZID=America/New_York:20260429T110000
DTEND;TZID=America/New_York:20260429T113000
DTSTAMP:20260422T111448
CREATED:20260330T132406Z
LAST-MODIFIED:20260330T132406Z
UID:10014051-1777460400-1777462200@wgrls.org
SUMMARY:Baby Time
DESCRIPTION:At Baby Time we sing songs\, read a book\, and play with friends. Baby Time is for Newborns\, Lap Babies\, and Crawlers.
URL:https://wgrls.org/event/baby-time-77/
LOCATION:New Georgia Public Library\, 94 Ridge Road\, Dallas\, GA\, 30157\, United States
CATEGORIES:Babies
GEO:33.8079733;-84.8879518
X-APPLE-STRUCTURED-LOCATION;VALUE=URI;X-ADDRESS=New Georgia Public Library 94 Ridge Road Dallas GA 30157 United States;X-APPLE-RADIUS=500;X-TITLE=94 Ridge Road:geo:-84.8879518,33.8079733
END:VEVENT
BEGIN:VEVENT
DTSTART;TZID=America/New_York:20260429T130000
DTEND;TZID=America/New_York:20260429T140000
DTSTAMP:20260422T111448
CREATED:20260330T133310Z
LAST-MODIFIED:20260330T133310Z
UID:10014092-1777467600-1777471200@wgrls.org
SUMMARY:Homeschool Hangout - Cherry Blossom Tree Paintings
DESCRIPTION:A fun time for families to hang out and do activities at the library! Fun\, themed activities and crafts! Build community and make friends! Ages 6-12. Registration required. Please message us on Facebook or call to register.
URL:https://wgrls.org/event/homeschool-hangout-cherry-blossom-tree-paintings/
LOCATION:New Georgia Public Library\, 94 Ridge Road\, Dallas\, GA\, 30157\, United States
CATEGORIES:Age: Families
GEO:33.8079733;-84.8879518
X-APPLE-STRUCTURED-LOCATION;VALUE=URI;X-ADDRESS=New Georgia Public Library 94 Ridge Road Dallas GA 30157 United States;X-APPLE-RADIUS=500;X-TITLE=94 Ridge Road:geo:-84.8879518,33.8079733
END:VEVENT
BEGIN:VEVENT
DTSTART;TZID=America/New_York:20260429T140000
DTEND;TZID=America/New_York:20260429T150000
DTSTAMP:20260422T111448
CREATED:20260330T133324Z
LAST-MODIFIED:20260330T133324Z
UID:10014093-1777471200-1777474800@wgrls.org
SUMMARY:Homeschool Hangout - Cherry Blossom Tree Paintings
DESCRIPTION:A fun time for families to hang out and do activities at the library! Fun\, themed activities and crafts! Build community and make friends! Ages 6-12. Registration required. Please message us on Facebook or call to register.
URL:https://wgrls.org/event/homeschool-hangout-cherry-blossom-tree-paintings-2/
LOCATION:New Georgia Public Library\, 94 Ridge Road\, Dallas\, GA\, 30157\, United States
CATEGORIES:Age: Families
GEO:33.8079733;-84.8879518
X-APPLE-STRUCTURED-LOCATION;VALUE=URI;X-ADDRESS=New Georgia Public Library 94 Ridge Road Dallas GA 30157 United States;X-APPLE-RADIUS=500;X-TITLE=94 Ridge Road:geo:-84.8879518,33.8079733
END:VEVENT
BEGIN:VEVENT
DTSTART;TZID=America/New_York:20260430T163000
DTEND;TZID=America/New_York:20260430T180000
DTSTAMP:20260422T111448
CREATED:20260330T133028Z
LAST-MODIFIED:20260330T133028Z
UID:10014078-1777566600-1777572000@wgrls.org
SUMMARY:Teen Community Service Project
DESCRIPTION:Join us for Teen Community Service Night on April 30th at 4:30 pm! We will be making tug rope toys for shelter dogs. This event is for ages 12-17. Registration is required. Please call or message us to register.
URL:https://wgrls.org/event/teen-community-service-project/
LOCATION:New Georgia Public Library\, 94 Ridge Road\, Dallas\, GA\, 30157\, United States
CATEGORIES:Age: Teens
GEO:33.8079733;-84.8879518
X-APPLE-STRUCTURED-LOCATION;VALUE=URI;X-ADDRESS=New Georgia Public Library 94 Ridge Road Dallas GA 30157 United States;X-APPLE-RADIUS=500;X-TITLE=94 Ridge Road:geo:-84.8879518,33.8079733
END:VEVENT
END:VCALENDAR