BEGIN:VCALENDAR
VERSION:2.0
PRODID:-//West Georgia Regional Library System - ECPv6.15.18//NONSGML v1.0//EN
CALSCALE:GREGORIAN
METHOD:PUBLISH
X-WR-CALNAME:West Georgia Regional Library System
X-ORIGINAL-URL:https://wgrls.org
X-WR-CALDESC:Events for West Georgia Regional Library System
REFRESH-INTERVAL;VALUE=DURATION:PT1H
X-Robots-Tag:noindex
X-PUBLISHED-TTL:PT1H
BEGIN:VTIMEZONE
TZID:America/New_York
BEGIN:DAYLIGHT
TZOFFSETFROM:-0500
TZOFFSETTO:-0400
TZNAME:EDT
DTSTART:20240310T070000
END:DAYLIGHT
BEGIN:STANDARD
TZOFFSETFROM:-0400
TZOFFSETTO:-0500
TZNAME:EST
DTSTART:20241103T060000
END:STANDARD
BEGIN:DAYLIGHT
TZOFFSETFROM:-0500
TZOFFSETTO:-0400
TZNAME:EDT
DTSTART:20250309T070000
END:DAYLIGHT
BEGIN:STANDARD
TZOFFSETFROM:-0400
TZOFFSETTO:-0500
TZNAME:EST
DTSTART:20251102T060000
END:STANDARD
BEGIN:DAYLIGHT
TZOFFSETFROM:-0500
TZOFFSETTO:-0400
TZNAME:EDT
DTSTART:20260308T070000
END:DAYLIGHT
BEGIN:STANDARD
TZOFFSETFROM:-0400
TZOFFSETTO:-0500
TZNAME:EST
DTSTART:20261101T060000
END:STANDARD
END:VTIMEZONE
BEGIN:VEVENT
DTSTART;TZID=America/New_York:20250514T170000
DTEND;TZID=America/New_York:20250514T183000
DTSTAMP:20260423T050527
CREATED:20250303T193306Z
LAST-MODIFIED:20250303T193306Z
UID:10010131-1747242000-1747247400@wgrls.org
SUMMARY:Words on A Page
DESCRIPTION:Words on a Page – Writers Group All writers welcome. Collaborate\, network with publishers and published authors\, enhance your writing skills\, find inspiration\, and participate in writing workshops.
URL:https://wgrls.org/event/words-on-a-page-50/
LOCATION:Lithia Springs Public Library\, 7100 Turner Drive\, Lithia Springs\, GA\, 30122\, United States
CATEGORIES:Age: Adults
GEO:33.7818672;-84.6588728
X-APPLE-STRUCTURED-LOCATION;VALUE=URI;X-ADDRESS=Lithia Springs Public Library 7100 Turner Drive Lithia Springs GA 30122 United States;X-APPLE-RADIUS=500;X-TITLE=7100 Turner Drive:geo:-84.6588728,33.7818672
END:VEVENT
BEGIN:VEVENT
DTSTART;TZID=America/New_York:20250514T103000
DTEND;TZID=America/New_York:20250514T113000
DTSTAMP:20260423T050527
CREATED:20250303T193506Z
LAST-MODIFIED:20250303T193506Z
UID:10010132-1747218600-1747222200@wgrls.org
SUMMARY:Secret Garden Club
DESCRIPTION:Plant perennials and spruce up the garden for the summer.
URL:https://wgrls.org/event/secret-garden-club-41/
LOCATION:Lithia Springs Public Library\, 7100 Turner Drive\, Lithia Springs\, GA\, 30122\, United States
CATEGORIES:All Ages
GEO:33.7818672;-84.6588728
X-APPLE-STRUCTURED-LOCATION;VALUE=URI;X-ADDRESS=Lithia Springs Public Library 7100 Turner Drive Lithia Springs GA 30122 United States;X-APPLE-RADIUS=500;X-TITLE=7100 Turner Drive:geo:-84.6588728,33.7818672
END:VEVENT
BEGIN:VEVENT
DTSTART;TZID=America/New_York:20250513T103000
DTEND;TZID=America/New_York:20250513T110000
DTSTAMP:20260423T050527
CREATED:20250303T193305Z
LAST-MODIFIED:20250303T193305Z
UID:10010130-1747132200-1747134000@wgrls.org
SUMMARY:Toddler Storytime
DESCRIPTION:We are reading about a mystical\, magical creature. The unicorn!
URL:https://wgrls.org/event/toddler-storytime-129/
LOCATION:Lithia Springs Public Library\, 7100 Turner Drive\, Lithia Springs\, GA\, 30122\, United States
CATEGORIES:Preschool
GEO:33.7818672;-84.6588728
X-APPLE-STRUCTURED-LOCATION;VALUE=URI;X-ADDRESS=Lithia Springs Public Library 7100 Turner Drive Lithia Springs GA 30122 United States;X-APPLE-RADIUS=500;X-TITLE=7100 Turner Drive:geo:-84.6588728,33.7818672
END:VEVENT
BEGIN:VEVENT
DTSTART;TZID=America/New_York:20250508T143000
DTEND;TZID=America/New_York:20250508T153000
DTSTAMP:20260423T050527
CREATED:20250303T193305Z
LAST-MODIFIED:20250303T193305Z
UID:10010129-1746714600-1746718200@wgrls.org
SUMMARY:STEAM Crossbow
DESCRIPTION:Build a mini crossbow with popsicle sticks.
URL:https://wgrls.org/event/steam-crossbow/
LOCATION:Lithia Springs Public Library\, 7100 Turner Drive\, Lithia Springs\, GA\, 30122\, United States
CATEGORIES:Age: Children
GEO:33.7818672;-84.6588728
X-APPLE-STRUCTURED-LOCATION;VALUE=URI;X-ADDRESS=Lithia Springs Public Library 7100 Turner Drive Lithia Springs GA 30122 United States;X-APPLE-RADIUS=500;X-TITLE=7100 Turner Drive:geo:-84.6588728,33.7818672
END:VEVENT
END:VCALENDAR