BEGIN:VCALENDAR
VERSION:2.0
PRODID:-//West Georgia Regional Library System - ECPv6.15.18//NONSGML v1.0//EN
CALSCALE:GREGORIAN
METHOD:PUBLISH
X-WR-CALNAME:West Georgia Regional Library System
X-ORIGINAL-URL:https://wgrls.org
X-WR-CALDESC:Events for West Georgia Regional Library System
REFRESH-INTERVAL;VALUE=DURATION:PT1H
X-Robots-Tag:noindex
X-PUBLISHED-TTL:PT1H
BEGIN:VTIMEZONE
TZID:America/New_York
BEGIN:DAYLIGHT
TZOFFSETFROM:-0500
TZOFFSETTO:-0400
TZNAME:EDT
DTSTART:20250309T070000
END:DAYLIGHT
BEGIN:STANDARD
TZOFFSETFROM:-0400
TZOFFSETTO:-0500
TZNAME:EST
DTSTART:20251102T060000
END:STANDARD
BEGIN:DAYLIGHT
TZOFFSETFROM:-0500
TZOFFSETTO:-0400
TZNAME:EDT
DTSTART:20260308T070000
END:DAYLIGHT
BEGIN:STANDARD
TZOFFSETFROM:-0400
TZOFFSETTO:-0500
TZNAME:EST
DTSTART:20261101T060000
END:STANDARD
BEGIN:DAYLIGHT
TZOFFSETFROM:-0500
TZOFFSETTO:-0400
TZNAME:EDT
DTSTART:20270314T070000
END:DAYLIGHT
BEGIN:STANDARD
TZOFFSETFROM:-0400
TZOFFSETTO:-0500
TZNAME:EST
DTSTART:20271107T060000
END:STANDARD
END:VTIMEZONE
BEGIN:VEVENT
DTSTART;TZID=America/New_York:20260526T170000
DTEND;TZID=America/New_York:20260526T180000
DTSTAMP:20260424T011215
CREATED:20260330T141140Z
LAST-MODIFIED:20260330T141140Z
UID:10014233-1779814800-1779818400@wgrls.org
SUMMARY:Teen Ice Cream Party - Registration Required
DESCRIPTION:(Ages 13-17) Teens are invited to a DIY ice cream party with a build-your-own sundae bar\, games\, and chill vibes.
URL:https://wgrls.org/event/teen-ice-cream-party-registration-required/
LOCATION:Hiram – Maude P. Ragsdale Public Library\, 1815 Hiram-Douglasville Highway\, Hiram\, GA\, 30141\, United States
CATEGORIES:Age: Teens
GEO:33.8669799;-84.7629697
X-APPLE-STRUCTURED-LOCATION;VALUE=URI;X-ADDRESS=Hiram – Maude P. Ragsdale Public Library 1815 Hiram-Douglasville Highway Hiram GA 30141 United States;X-APPLE-RADIUS=500;X-TITLE=1815 Hiram-Douglasville Highway:geo:-84.7629697,33.8669799
END:VEVENT
BEGIN:VEVENT
DTSTART;TZID=America/New_York:20260528T103000
DTEND;TZID=America/New_York:20260528T110000
DTSTAMP:20260424T011215
CREATED:20260330T141053Z
LAST-MODIFIED:20260330T141053Z
UID:10014220-1779964200-1779966000@wgrls.org
SUMMARY:Toddler Time
DESCRIPTION:Songs\, stories\, and playtime for toddlers from walking to age 3.
URL:https://wgrls.org/event/toddler-time-143/
LOCATION:Hiram – Maude P. Ragsdale Public Library\, 1815 Hiram-Douglasville Highway\, Hiram\, GA\, 30141\, United States
CATEGORIES:Babies
GEO:33.8669799;-84.7629697
X-APPLE-STRUCTURED-LOCATION;VALUE=URI;X-ADDRESS=Hiram – Maude P. Ragsdale Public Library 1815 Hiram-Douglasville Highway Hiram GA 30141 United States;X-APPLE-RADIUS=500;X-TITLE=1815 Hiram-Douglasville Highway:geo:-84.7629697,33.8669799
END:VEVENT
BEGIN:VEVENT
DTSTART;TZID=America/New_York:20260528T113000
DTEND;TZID=America/New_York:20260528T120000
DTSTAMP:20260424T011215
CREATED:20260330T141108Z
LAST-MODIFIED:20260330T141108Z
UID:10014224-1779967800-1779969600@wgrls.org
SUMMARY:Baby Time
DESCRIPTION:Songs\, stories\, and playtime for babies from birth to walking.
URL:https://wgrls.org/event/baby-time-90/
LOCATION:Hiram – Maude P. Ragsdale Public Library\, 1815 Hiram-Douglasville Highway\, Hiram\, GA\, 30141\, United States
CATEGORIES:Babies
GEO:33.8669799;-84.7629697
X-APPLE-STRUCTURED-LOCATION;VALUE=URI;X-ADDRESS=Hiram – Maude P. Ragsdale Public Library 1815 Hiram-Douglasville Highway Hiram GA 30141 United States;X-APPLE-RADIUS=500;X-TITLE=1815 Hiram-Douglasville Highway:geo:-84.7629697,33.8669799
END:VEVENT
BEGIN:VEVENT
DTSTART;TZID=America/New_York:20260528T173000
DTEND;TZID=America/New_York:20260528T183000
DTSTAMP:20260424T011215
CREATED:20260330T141153Z
LAST-MODIFIED:20260330T141153Z
UID:10014237-1779989400-1779993000@wgrls.org
SUMMARY:Hand Lettering For Beginners
DESCRIPTION:Learn the fundamentals of brush lettering\, faux calligraphy\, and basic script styles!
URL:https://wgrls.org/event/hand-lettering-for-beginners/
LOCATION:Hiram – Maude P. Ragsdale Public Library\, 1815 Hiram-Douglasville Highway\, Hiram\, GA\, 30141\, United States
CATEGORIES:Age: Adults
GEO:33.8669799;-84.7629697
X-APPLE-STRUCTURED-LOCATION;VALUE=URI;X-ADDRESS=Hiram – Maude P. Ragsdale Public Library 1815 Hiram-Douglasville Highway Hiram GA 30141 United States;X-APPLE-RADIUS=500;X-TITLE=1815 Hiram-Douglasville Highway:geo:-84.7629697,33.8669799
END:VEVENT
BEGIN:VEVENT
DTSTART;TZID=America/New_York:20260529T103000
DTEND;TZID=America/New_York:20260529T120000
DTSTAMP:20260424T011215
CREATED:20260330T141123Z
LAST-MODIFIED:20260330T141123Z
UID:10014230-1780050600-1780056000@wgrls.org
SUMMARY:Summer Reading Kickoff Party
DESCRIPTION:Roar\, Stomp\, and Celebrate with us as we kickoff the best time of year\, Summer Reading!
URL:https://wgrls.org/event/summer-reading-kickoff-party/
LOCATION:Hiram – Maude P. Ragsdale Public Library\, 1815 Hiram-Douglasville Highway\, Hiram\, GA\, 30141\, United States
CATEGORIES:All Ages
GEO:33.8669799;-84.7629697
X-APPLE-STRUCTURED-LOCATION;VALUE=URI;X-ADDRESS=Hiram – Maude P. Ragsdale Public Library 1815 Hiram-Douglasville Highway Hiram GA 30141 United States;X-APPLE-RADIUS=500;X-TITLE=1815 Hiram-Douglasville Highway:geo:-84.7629697,33.8669799
END:VEVENT
END:VCALENDAR