BEGIN:VCALENDAR
VERSION:2.0
PRODID:-//West Georgia Regional Library System - ECPv6.15.18//NONSGML v1.0//EN
CALSCALE:GREGORIAN
METHOD:PUBLISH
X-ORIGINAL-URL:https://wgrls.org
X-WR-CALDESC:Events for West Georgia Regional Library System
REFRESH-INTERVAL;VALUE=DURATION:PT1H
X-Robots-Tag:noindex
X-PUBLISHED-TTL:PT1H
BEGIN:VTIMEZONE
TZID:America/New_York
BEGIN:DAYLIGHT
TZOFFSETFROM:-0500
TZOFFSETTO:-0400
TZNAME:EDT
DTSTART:20240310T070000
END:DAYLIGHT
BEGIN:STANDARD
TZOFFSETFROM:-0400
TZOFFSETTO:-0500
TZNAME:EST
DTSTART:20241103T060000
END:STANDARD
BEGIN:DAYLIGHT
TZOFFSETFROM:-0500
TZOFFSETTO:-0400
TZNAME:EDT
DTSTART:20250309T070000
END:DAYLIGHT
BEGIN:STANDARD
TZOFFSETFROM:-0400
TZOFFSETTO:-0500
TZNAME:EST
DTSTART:20251102T060000
END:STANDARD
BEGIN:DAYLIGHT
TZOFFSETFROM:-0500
TZOFFSETTO:-0400
TZNAME:EDT
DTSTART:20260308T070000
END:DAYLIGHT
BEGIN:STANDARD
TZOFFSETFROM:-0400
TZOFFSETTO:-0500
TZNAME:EST
DTSTART:20261101T060000
END:STANDARD
END:VTIMEZONE
BEGIN:VEVENT
DTSTART;TZID=America/New_York:20250602T103000
DTEND;TZID=America/New_York:20250602T110000
DTSTAMP:20260423T092844
CREATED:20250522T195153Z
LAST-MODIFIED:20250522T195153Z
UID:10011279-1748860200-1748862000@wgrls.org
SUMMARY:DC Baby / Toddler Storytime
DESCRIPTION:Cuddle up with your baby or toddler for fingerplays\, rhymes\, tickles\, music\, and a story. This storytime is all about experiencing fun literacy activities together! For children ages 0 to 36 months and their caregivers.
URL:https://wgrls.org/event/dc-baby-toddler-storytime-115/
LOCATION:Douglas County Public Library\, 6810 Selman Drive\, Douglasville\, GA\, 30134\, United States
CATEGORIES:Babies
GEO:33.7431225;-84.7523374
X-APPLE-STRUCTURED-LOCATION;VALUE=URI;X-ADDRESS=Douglas County Public Library 6810 Selman Drive Douglasville GA 30134 United States;X-APPLE-RADIUS=500;X-TITLE=6810 Selman Drive:geo:-84.7523374,33.7431225
END:VEVENT
BEGIN:VEVENT
DTSTART;TZID=America/New_York:20250602T090000
DTEND;TZID=America/New_York:20250602T170000
DTSTAMP:20260423T092844
CREATED:20250522T195445Z
LAST-MODIFIED:20250522T195445Z
UID:10011289-1748854800-1748883600@wgrls.org
SUMMARY:Children's Take & Make Craft
DESCRIPTION:Drop by to pick a craft and literacy activity kit to-go. For children ages 6-12.
URL:https://wgrls.org/event/childrens-take-make-craft/
LOCATION:Douglas County Public Library\, 6810 Selman Drive\, Douglasville\, GA\, 30134\, United States
CATEGORIES:Age: Children
GEO:33.7431225;-84.7523374
X-APPLE-STRUCTURED-LOCATION;VALUE=URI;X-ADDRESS=Douglas County Public Library 6810 Selman Drive Douglasville GA 30134 United States;X-APPLE-RADIUS=500;X-TITLE=6810 Selman Drive:geo:-84.7523374,33.7431225
END:VEVENT
BEGIN:VEVENT
DTSTART;TZID=America/New_York:20250514T103000
DTEND;TZID=America/New_York:20250514T110000
DTSTAMP:20260423T092844
CREATED:20250303T192359Z
LAST-MODIFIED:20250303T192359Z
UID:10010098-1747218600-1747220400@wgrls.org
SUMMARY:DC Preschool Storytime
DESCRIPTION:Join us for stories\, rhymes\, music\, movement\, and crafts for children ages 3-5\, with an emphasis on early literacy skills.
URL:https://wgrls.org/event/dc-preschool-storytime-62/
LOCATION:Douglas County Public Library\, 6810 Selman Drive\, Douglasville\, GA\, 30134\, United States
CATEGORIES:Preschool
GEO:33.7431225;-84.7523374
X-APPLE-STRUCTURED-LOCATION;VALUE=URI;X-ADDRESS=Douglas County Public Library 6810 Selman Drive Douglasville GA 30134 United States;X-APPLE-RADIUS=500;X-TITLE=6810 Selman Drive:geo:-84.7523374,33.7431225
END:VEVENT
BEGIN:VEVENT
DTSTART;TZID=America/New_York:20250512T113000
DTEND;TZID=America/New_York:20250512T120000
DTSTAMP:20260423T092844
CREATED:20250303T192359Z
LAST-MODIFIED:20250303T192359Z
UID:10010097-1747049400-1747051200@wgrls.org
SUMMARY:DC Baby / Toddler Storytime
DESCRIPTION:Cuddle up with your baby or toddler for fingerplays\, rhymes\, tickles\, music\, and a story. This storytime is all about experiencing fun literacy activities together! For children ages 0 to 36 months and their caregivers.
URL:https://wgrls.org/event/dc-baby-toddler-storytime-114/
LOCATION:Douglas County Public Library\, 6810 Selman Drive\, Douglasville\, GA\, 30134\, United States
CATEGORIES:Babies
GEO:33.7431225;-84.7523374
X-APPLE-STRUCTURED-LOCATION;VALUE=URI;X-ADDRESS=Douglas County Public Library 6810 Selman Drive Douglasville GA 30134 United States;X-APPLE-RADIUS=500;X-TITLE=6810 Selman Drive:geo:-84.7523374,33.7431225
END:VEVENT
BEGIN:VEVENT
DTSTART;TZID=America/New_York:20250512T103000
DTEND;TZID=America/New_York:20250512T110000
DTSTAMP:20260423T092844
CREATED:20250303T192159Z
LAST-MODIFIED:20250303T192159Z
UID:10010096-1747045800-1747047600@wgrls.org
SUMMARY:DC Baby / Toddler Storytime
DESCRIPTION:Cuddle up with your baby or toddler for fingerplays\, rhymes\, tickles\, music\, and a story. This storytime is all about experiencing fun literacy activities together! For children ages 0 to 36 months and their caregivers.
URL:https://wgrls.org/event/dc-baby-toddler-storytime-113/
LOCATION:Douglas County Public Library\, 6810 Selman Drive\, Douglasville\, GA\, 30134\, United States
CATEGORIES:Babies
GEO:33.7431225;-84.7523374
X-APPLE-STRUCTURED-LOCATION;VALUE=URI;X-ADDRESS=Douglas County Public Library 6810 Selman Drive Douglasville GA 30134 United States;X-APPLE-RADIUS=500;X-TITLE=6810 Selman Drive:geo:-84.7523374,33.7431225
END:VEVENT
END:VCALENDAR